 BEGIN:VCALENDAR
VERSION:1.0
PRODID:SSPCA Web Calendar
TZ:-07
BEGIN:VEVENT
ORGANIZER:MAILTO: webmaster@cantonfair.org.cn; info@cantonfair.org.cn;
SUMMARY;ENCODING=QUOTED-PRINTABLE: Canton Fair 2014 (October, Autumn) - The 116th China Import and Export Fair 2014
LOCATION;ENCODING=QUOTED-PRINTABLE: Guangzhou
DESCRIPTION;ENCODING=QUOTED-PRINTABLE: More Details£º=0D=0A
DTSTART:20141015T000000Z 
DTEND:20141104T000000Z 
END:VEVENT
END:VCALENDAR