 BEGIN:VCALENDAR
VERSION:1.0
PRODID:SSPCA Web Calendar
TZ:-07
BEGIN:VEVENT
ORGANIZER:MAILTO: info@cantonfair.org.cn;webmaster@cantonfair.org.cn
SUMMARY;ENCODING=QUOTED-PRINTABLE: Canton Fair 2014 (April, Spring) - The 115th China Import and Export Fair 2014
LOCATION;ENCODING=QUOTED-PRINTABLE: Guangzhou
DESCRIPTION;ENCODING=QUOTED-PRINTABLE: More Details£º=0D=0A
DTSTART:20140415T000000Z 
DTEND:20140505T000000Z 
END:VEVENT
END:VCALENDAR