 BEGIN:VCALENDAR
VERSION:1.0
PRODID:SSPCA Web Calendar
TZ:-07
BEGIN:VEVENT
ORGANIZER:MAILTO: exhibitions@hktdc.org; 
SUMMARY;ENCODING=QUOTED-PRINTABLE: HKTDC The 11th Hong Kong Electronics Fair (Spring Edition) 2014
LOCATION;ENCODING=QUOTED-PRINTABLE: Hong Kong
DESCRIPTION;ENCODING=QUOTED-PRINTABLE: More Details£º=0D=0A
DTSTART:20140413T000000Z 
DTEND:20140416T000000Z 
END:VEVENT
END:VCALENDAR