 BEGIN:VCALENDAR
VERSION:1.0
PRODID:SSPCA Web Calendar
TZ:-07
BEGIN:VEVENT
ORGANIZER:MAILTO: 
SUMMARY;ENCODING=QUOTED-PRINTABLE: Low Carbon Earth Summit-2011  (LCES2011)
LOCATION;ENCODING=QUOTED-PRINTABLE: Dalian
DESCRIPTION;ENCODING=QUOTED-PRINTABLE: More Details£º=0D=0Ahttp://www.chinaexhibition.com/trade_events/377-Low_Carbon_Earth_Summit-2011__(LCES2011).html
DTSTART:20111019T000000Z 
DTEND:20111026T000000Z 
END:VEVENT
END:VCALENDAR