 BEGIN:VCALENDAR
VERSION:1.0
PRODID:SSPCA Web Calendar
TZ:-07
BEGIN:VEVENT
ORGANIZER:MAILTO: mag@audiotechnique.com
SUMMARY;ENCODING=QUOTED-PRINTABLE: AV SHOW HK 2013 - 2013 Hong Kong High-End Audio-Visual Show
LOCATION;ENCODING=QUOTED-PRINTABLE: Hong Kong
DESCRIPTION;ENCODING=QUOTED-PRINTABLE: More Details£º=0D=0A
DTSTART:20130809T000000Z 
DTEND:20130811T000000Z 
END:VEVENT
END:VCALENDAR