 BEGIN:VCALENDAR
VERSION:1.0
PRODID:SSPCA Web Calendar
TZ:-07
BEGIN:VEVENT
ORGANIZER:MAILTO: cherryzh@innchinc.com
SUMMARY;ENCODING=QUOTED-PRINTABLE: NITF 2013 - Nuclear Technology Information Forum 2013
LOCATION;ENCODING=QUOTED-PRINTABLE: Shanghai
DESCRIPTION;ENCODING=QUOTED-PRINTABLE: More Details£º=0D=0A
DTSTART:20130808T000000Z 
DTEND:20130809T000000Z 
END:VEVENT
END:VCALENDAR