 BEGIN:VCALENDAR
VERSION:1.0
PRODID:SSPCA Web Calendar
TZ:-07
BEGIN:VEVENT
ORGANIZER:MAILTO: jinyi@globalsources.com
SUMMARY;ENCODING=QUOTED-PRINTABLE: IIC-China 2014 Fall Exhibition
LOCATION;ENCODING=QUOTED-PRINTABLE: Shenzhen
DESCRIPTION;ENCODING=QUOTED-PRINTABLE: More Details£º=0D=0Ahttp://www.chinaexhibition.com/trade_events/3569-IIC-China_2014_Fall_Exhibition.html
DTSTART:20140902T000000Z 
DTEND:20140905T000000Z 
END:VEVENT
END:VCALENDAR