 BEGIN:VCALENDAR
VERSION:1.0
PRODID:SSPCA Web Calendar
TZ:-07
BEGIN:VEVENT
ORGANIZER:MAILTO: Emma.MAQI@chinawineexpo.com
SUMMARY;ENCODING=QUOTED-PRINTABLE: China Wine Expo 2013 - China International Wine Expo 2013
LOCATION;ENCODING=QUOTED-PRINTABLE: Guangzhou
DESCRIPTION;ENCODING=QUOTED-PRINTABLE: More Details£º=0D=0A
DTSTART:20130627T000000Z 
DTEND:20130629T000000Z 
END:VEVENT
END:VCALENDAR