 BEGIN:VCALENDAR
VERSION:1.0
PRODID:SSPCA Web Calendar
TZ:-07
BEGIN:VEVENT
ORGANIZER:MAILTO: Susie@mpassociates.com;
SUMMARY;ENCODING=QUOTED-PRINTABLE: IWS 2013 - The IEEE MTT-S International Wireless Symposium 2013
LOCATION;ENCODING=QUOTED-PRINTABLE: Beijing
DESCRIPTION;ENCODING=QUOTED-PRINTABLE: More Details£º=0D=0A
DTSTART:20130414T000000Z 
DTEND:20130418T000000Z 
END:VEVENT
END:VCALENDAR