 BEGIN:VCALENDAR
VERSION:1.0
PRODID:SSPCA Web Calendar
TZ:-07
BEGIN:VEVENT
ORGANIZER:MAILTO: cefinfo@ceac.com.cn;
SUMMARY;ENCODING=QUOTED-PRINTABLE: CEF West 2013 - 2013 China Electronics Fair West Show
LOCATION;ENCODING=QUOTED-PRINTABLE: Chengdu
DESCRIPTION;ENCODING=QUOTED-PRINTABLE: More Details£º=0D=0A
DTSTART:20130620T000000Z 
DTEND:20130622T000000Z 
END:VEVENT
END:VCALENDAR