 BEGIN:VCALENDAR
VERSION:1.0
PRODID:SSPCA Web Calendar
TZ:-07
BEGIN:VEVENT
ORGANIZER:MAILTO: cosmasia-hk@ubm.com; 
SUMMARY;ENCODING=QUOTED-PRINTABLE: Cosmoprof Asia 2013
LOCATION;ENCODING=QUOTED-PRINTABLE: Hong Kong
DESCRIPTION;ENCODING=QUOTED-PRINTABLE: More Details£º=0D=0Ahttp://www.chinaexhibition.com/trade_events/3172-Cosmoprof_Asia_2013.html
DTSTART:20131113T000000Z 
DTEND:20131115T000000Z 
END:VEVENT
END:VCALENDAR