 BEGIN:VCALENDAR
VERSION:1.0
PRODID:SSPCA Web Calendar
TZ:-07
BEGIN:VEVENT
ORGANIZER:MAILTO: sales@china-jinnuo.com
SUMMARY;ENCODING=QUOTED-PRINTABLE: CPRE 2013 - The 15th China International Plastics & Rubber Industry Exhibition
LOCATION;ENCODING=QUOTED-PRINTABLE: Qingdao
DESCRIPTION;ENCODING=QUOTED-PRINTABLE: More Details£º=0D=0A
DTSTART:20130815T000000Z 
DTEND:20130817T000000Z 
END:VEVENT
END:VCALENDAR