 BEGIN:VCALENDAR
VERSION:1.0
PRODID:SSPCA Web Calendar
TZ:-07
BEGIN:VEVENT
ORGANIZER:MAILTO: lsyÂ­Â­Â­Â­_zl@vip.163.com;
SUMMARY;ENCODING=QUOTED-PRINTABLE: CINE 2013 - China International Nuclear Power Equipment Exhibition 2013
LOCATION;ENCODING=QUOTED-PRINTABLE: Beijing
DESCRIPTION;ENCODING=QUOTED-PRINTABLE: More Details£º=0D=0A
DTSTART:20130902T000000Z 
DTEND:20130904T000000Z 
END:VEVENT
END:VCALENDAR