 BEGIN:VCALENDAR
VERSION:1.0
PRODID:SSPCA Web Calendar
TZ:-07
BEGIN:VEVENT
ORGANIZER:MAILTO: cathy.ho.cife@gmail.com
SUMMARY;ENCODING=QUOTED-PRINTABLE: CMPF 2012 - 2012 China (Guangzhou) International Food Machinery & Packaging Fair
LOCATION;ENCODING=QUOTED-PRINTABLE: Guangzhou
DESCRIPTION;ENCODING=QUOTED-PRINTABLE: More Details£º=0D=0A
DTSTART:20121101T000000Z 
DTEND:20121103T000000Z 
END:VEVENT
END:VCALENDAR