 BEGIN:VCALENDAR
VERSION:1.0
PRODID:SSPCA Web Calendar
TZ:-07
BEGIN:VEVENT
ORGANIZER:MAILTO: ec@zhenweiexpo.com; 
SUMMARY;ENCODING=QUOTED-PRINTABLE: CIEC 2013 - 2013 Guangzhou International Electronic Chemicals Exhibition
LOCATION;ENCODING=QUOTED-PRINTABLE: Guangzhou
DESCRIPTION;ENCODING=QUOTED-PRINTABLE: More Details£º=0D=0A
DTSTART:20130815T000000Z 
DTEND:20130817T000000Z 
END:VEVENT
END:VCALENDAR