 BEGIN:VCALENDAR
VERSION:1.0
PRODID:SSPCA Web Calendar
TZ:-07
BEGIN:VEVENT
ORGANIZER:MAILTO: flora.liu@reedexpo.com.cn
SUMMARY;ENCODING=QUOTED-PRINTABLE: CIBTM 2013 - 2013 China Incentive, Business Travel & Meetings Exhibition
LOCATION;ENCODING=QUOTED-PRINTABLE: Beijing
DESCRIPTION;ENCODING=QUOTED-PRINTABLE: More Details£º=0D=0A
DTSTART:20130902T000000Z 
DTEND:20130904T000000Z 
END:VEVENT
END:VCALENDAR