 BEGIN:VCALENDAR
VERSION:1.0
PRODID:SSPCA Web Calendar
TZ:-07
BEGIN:VEVENT
ORGANIZER:MAILTO: cpcashow@ying-zhan.com; 
SUMMARY;ENCODING=QUOTED-PRINTABLE: CPCA Show 2013 - The 22nd China International Electronic Circuits Exhibition
LOCATION;ENCODING=QUOTED-PRINTABLE: Shanghai
DESCRIPTION;ENCODING=QUOTED-PRINTABLE: More Details£º=0D=0A
DTSTART:20130319T000000Z 
DTEND:20130321T000000Z 
END:VEVENT
END:VCALENDAR