 BEGIN:VCALENDAR
VERSION:1.0
PRODID:SSPCA Web Calendar
TZ:-07
BEGIN:VEVENT
ORGANIZER:MAILTO: Beckychen@lanneret.com.cn
SUMMARY;ENCODING=QUOTED-PRINTABLE: CIMAE 2013 - The 4th Beijing International Modern Agricultural Exhibition
LOCATION;ENCODING=QUOTED-PRINTABLE: Beijing
DESCRIPTION;ENCODING=QUOTED-PRINTABLE: More Details£º=0D=0A
DTSTART:20130529T000000Z 
DTEND:20130531T000000Z 
END:VEVENT
END:VCALENDAR