 BEGIN:VCALENDAR
VERSION:1.0
PRODID:SSPCA Web Calendar
TZ:-07
BEGIN:VEVENT
ORGANIZER:MAILTO: contact@galleonevents.com; marketing@galleonevents.com; 
SUMMARY;ENCODING=QUOTED-PRINTABLE: 2012 China Deepwater Drilling Rigs Manufacturing Summit
LOCATION;ENCODING=QUOTED-PRINTABLE: Zhoushan
DESCRIPTION;ENCODING=QUOTED-PRINTABLE: More Details£º=0D=0A
DTSTART:20121107T000000Z 
DTEND:20121108T000000Z 
END:VEVENT
END:VCALENDAR