 BEGIN:VCALENDAR
VERSION:1.0
PRODID:SSPCA Web Calendar
TZ:-07
BEGIN:VEVENT
ORGANIZER:MAILTO: show@interweighing.com
SUMMARY;ENCODING=QUOTED-PRINTABLE: InterWEIGHING 2013 - 2013 China International Weighing Instrument Exhibition
LOCATION;ENCODING=QUOTED-PRINTABLE: Shanghai
DESCRIPTION;ENCODING=QUOTED-PRINTABLE: More Details£º=0D=0A
DTSTART:20130422T000000Z 
DTEND:20130424T000000Z 
END:VEVENT
END:VCALENDAR