 BEGIN:VCALENDAR
VERSION:1.0
PRODID:SSPCA Web Calendar
TZ:-07
BEGIN:VEVENT
ORGANIZER:MAILTO: ciipc18@chinafair.org.cn
SUMMARY;ENCODING=QUOTED-PRINTABLE: CXMEE 2013 - The 17th China Xiamen Machinery & Electronics Exhibition
LOCATION;ENCODING=QUOTED-PRINTABLE: Xiamen
DESCRIPTION;ENCODING=QUOTED-PRINTABLE: More Details£º=0D=0A
DTSTART:20130412T000000Z 
DTEND:20130415T000000Z 
END:VEVENT
END:VCALENDAR