 BEGIN:VCALENDAR
VERSION:1.0
PRODID:SSPCA Web Calendar
TZ:-07
BEGIN:VEVENT
ORGANIZER:MAILTO: exhibitions@hktdc.org; 
SUMMARY;ENCODING=QUOTED-PRINTABLE: HKTDC Hong Kong Electronics Fair (Spring Edition) 2013
LOCATION;ENCODING=QUOTED-PRINTABLE: Hong Kong
DESCRIPTION;ENCODING=QUOTED-PRINTABLE: More Details£º=0D=0A
DTSTART:20130413T000000Z 
DTEND:20130416T000000Z 
END:VEVENT
END:VCALENDAR