 BEGIN:VCALENDAR
VERSION:1.0
PRODID:SSPCA Web Calendar
TZ:-07
BEGIN:VEVENT
ORGANIZER:MAILTO: Jessica@dnaday.com
SUMMARY;ENCODING=QUOTED-PRINTABLE: WDD 2013 - BIT's 4th Annual World DNA and Genome Day
LOCATION;ENCODING=QUOTED-PRINTABLE: Nanjing
DESCRIPTION;ENCODING=QUOTED-PRINTABLE: More Details£º=0D=0A
DTSTART:20130425T000000Z 
DTEND:20130428T000000Z 
END:VEVENT
END:VCALENDAR