 BEGIN:VCALENDAR
VERSION:1.0
PRODID:SSPCA Web Calendar
TZ:-07
BEGIN:VEVENT
ORGANIZER:MAILTO: cherryguo320@163.com
SUMMARY;ENCODING=QUOTED-PRINTABLE: The 9th China (Beijing) International Glass Industry Expo 2012
LOCATION;ENCODING=QUOTED-PRINTABLE: Beijing
DESCRIPTION;ENCODING=QUOTED-PRINTABLE: More Details£º=0D=0A
DTSTART:20120904T000000Z 
DTEND:20120906T000000Z 
END:VEVENT
END:VCALENDAR