 BEGIN:VCALENDAR
VERSION:1.0
PRODID:SSPCA Web Calendar
TZ:-07
BEGIN:VEVENT
ORGANIZER:MAILTO: shirley@snec.org.cn
SUMMARY;ENCODING=QUOTED-PRINTABLE: SNEC 2013 - The 7th International Photovoltaic Power Generation Conference & Exhibition
LOCATION;ENCODING=QUOTED-PRINTABLE: Shanghai
DESCRIPTION;ENCODING=QUOTED-PRINTABLE: More Details£º=0D=0A
DTSTART:20130514T000000Z 
DTEND:20130516T000000Z 
END:VEVENT
END:VCALENDAR