 BEGIN:VCALENDAR
VERSION:1.0
PRODID:SSPCA Web Calendar
TZ:-07
BEGIN:VEVENT
ORGANIZER:MAILTO: info1@grandeurhk.com
SUMMARY;ENCODING=QUOTED-PRINTABLE: Rooftile 2013 - The 3rd China Rooftile & Technology Exhibition
LOCATION;ENCODING=QUOTED-PRINTABLE: Guangzhou
DESCRIPTION;ENCODING=QUOTED-PRINTABLE: More Details£º=0D=0A
DTSTART:20130509T000000Z 
DTEND:20130511T000000Z 
END:VEVENT
END:VCALENDAR