 BEGIN:VCALENDAR
VERSION:1.0
PRODID:SSPCA Web Calendar
TZ:-07
BEGIN:VEVENT
ORGANIZER:MAILTO: huangqiong@cwtc.com
SUMMARY;ENCODING=QUOTED-PRINTABLE: CHIC 2013  - The 21st China International Clothing & Accessories Fair
LOCATION;ENCODING=QUOTED-PRINTABLE: Beijing
DESCRIPTION;ENCODING=QUOTED-PRINTABLE: More Details£º=0D=0A
DTSTART:20130326T000000Z 
DTEND:20130329T000000Z 
END:VEVENT
END:VCALENDAR