 BEGIN:VCALENDAR
VERSION:1.0
PRODID:SSPCA Web Calendar
TZ:-07
BEGIN:VEVENT
ORGANIZER:MAILTO: tppack@taitra.org.tw
SUMMARY;ENCODING=QUOTED-PRINTABLE: TAIPEI PACK 2013 - Taipei International Packaging Industry Show 2013
LOCATION;ENCODING=QUOTED-PRINTABLE: Taipei
DESCRIPTION;ENCODING=QUOTED-PRINTABLE: More Details£º=0D=0A
DTSTART:20130626T000000Z 
DTEND:20130629T000000Z 
END:VEVENT
END:VCALENDAR