 BEGIN:VCALENDAR
VERSION:1.0
PRODID:SSPCA Web Calendar
TZ:-07
BEGIN:VEVENT
ORGANIZER:MAILTO: veronica.chen@newera.messefrankfurt.com
SUMMARY;ENCODING=QUOTED-PRINTABLE: Secutech 2013 - International Security Expo 2013
LOCATION;ENCODING=QUOTED-PRINTABLE: Taipei
DESCRIPTION;ENCODING=QUOTED-PRINTABLE: More Details£º=0D=0A
DTSTART:20130424T000000Z 
DTEND:20130426T000000Z 
END:VEVENT
END:VCALENDAR