 BEGIN:VCALENDAR
VERSION:1.0
PRODID:SSPCA Web Calendar
TZ:-07
BEGIN:VEVENT
ORGANIZER:MAILTO: outdoor@hongkong.messefrankfurt.com
SUMMARY;ENCODING=QUOTED-PRINTABLE: Outdoor China 2012
LOCATION;ENCODING=QUOTED-PRINTABLE: Shanghai
DESCRIPTION;ENCODING=QUOTED-PRINTABLE: More Details£º=0D=0Ahttp://www.chinaexhibition.com/trade_events/2090-Outdoor_China_2012.html
DTSTART:20120705T000000Z 
DTEND:20120707T000000Z 
END:VEVENT
END:VCALENDAR