 BEGIN:VCALENDAR
VERSION:1.0
PRODID:SSPCA Web Calendar
TZ:-07
BEGIN:VEVENT
ORGANIZER:MAILTO: info@communicmacau.com
SUMMARY;ENCODING=QUOTED-PRINTABLE: Communic Macau 2012
LOCATION;ENCODING=QUOTED-PRINTABLE: Macau/Macao
DESCRIPTION;ENCODING=QUOTED-PRINTABLE: More Details£º=0D=0Ahttp://www.chinaexhibition.com/trade_events/2082-Communic_Macau_2012.html
DTSTART:20120629T000000Z 
DTEND:20120701T000000Z 
END:VEVENT
END:VCALENDAR