 BEGIN:VCALENDAR
VERSION:1.0
PRODID:SSPCA Web Calendar
TZ:-07
BEGIN:VEVENT
ORGANIZER:MAILTO: sally@bitlifesciences.com
SUMMARY;ENCODING=QUOTED-PRINTABLE: PepCon 2013 - BIT's 6th Annual Protein and Peptide Conference
LOCATION;ENCODING=QUOTED-PRINTABLE: Suzhou
DESCRIPTION;ENCODING=QUOTED-PRINTABLE: More Details£º=0D=0A
DTSTART:20130326T000000Z 
DTEND:20130328T000000Z 
END:VEVENT
END:VCALENDAR