 BEGIN:VCALENDAR
VERSION:1.0
PRODID:SSPCA Web Calendar
TZ:-07
BEGIN:VEVENT
ORGANIZER:MAILTO: Cathy@bitlifesciences.com
SUMMARY;ENCODING=QUOTED-PRINTABLE: ICGO 2012 - BIT's 1st International Congress of Gynaecology and Obstetrics
LOCATION;ENCODING=QUOTED-PRINTABLE: Guangzhou
DESCRIPTION;ENCODING=QUOTED-PRINTABLE: More Details£º=0D=0A
DTSTART:20121202T000000Z 
DTEND:20121204T000000Z 
END:VEVENT
END:VCALENDAR