 BEGIN:VCALENDAR
VERSION:1.0
PRODID:SSPCA Web Calendar
TZ:-07
BEGIN:VEVENT
ORGANIZER:MAILTO: penny@bitlifesciences.com
SUMMARY;ENCODING=QUOTED-PRINTABLE: SQ foods 2012 - BIT's 1st Annual Congress of SQ Foods
LOCATION;ENCODING=QUOTED-PRINTABLE: Shenzhen
DESCRIPTION;ENCODING=QUOTED-PRINTABLE: More Details£º=0D=0A
DTSTART:20121101T000000Z 
DTEND:20121103T000000Z 
END:VEVENT
END:VCALENDAR