 BEGIN:VCALENDAR
VERSION:1.0
PRODID:SSPCA Web Calendar
TZ:-07
BEGIN:VEVENT
ORGANIZER:MAILTO: info@asiafruitcongress.com
SUMMARY;ENCODING=QUOTED-PRINTABLE: Asiafruit Congress 2012
LOCATION;ENCODING=QUOTED-PRINTABLE: Hong Kong
DESCRIPTION;ENCODING=QUOTED-PRINTABLE: More Details£º=0D=0Ahttp://www.chinaexhibition.com/trade_events/2018-Asiafruit_Congress_2012.html
DTSTART:20120905T000000Z 
DTEND:20120907T000000Z 
END:VEVENT
END:VCALENDAR