 BEGIN:VCALENDAR
VERSION:1.0
PRODID:SSPCA Web Calendar
TZ:-07
BEGIN:VEVENT
ORGANIZER:MAILTO: info@accp2012.org;
SUMMARY;ENCODING=QUOTED-PRINTABLE: ACCP 2012 - The 12th Asian Conference on Clinical Pharmacy
LOCATION;ENCODING=QUOTED-PRINTABLE: Hong Kong
DESCRIPTION;ENCODING=QUOTED-PRINTABLE: More Details£º=0D=0A
DTSTART:20120707T000000Z 
DTEND:20120709T000000Z 
END:VEVENT
END:VCALENDAR