 BEGIN:VCALENDAR
VERSION:1.0
PRODID:SSPCA Web Calendar
TZ:-07
BEGIN:VEVENT
ORGANIZER:MAILTO: ive@jhtl.com.cn; shenlan1919@vip.qq.com;
SUMMARY;ENCODING=QUOTED-PRINTABLE: 2012 International Vacuum Exposition (Beijing)
LOCATION;ENCODING=QUOTED-PRINTABLE: Beijing
DESCRIPTION;ENCODING=QUOTED-PRINTABLE: More Details£º=0D=0A
DTSTART:20121106T000000Z 
DTEND:20121108T000000Z 
END:VEVENT
END:VCALENDAR