 BEGIN:VCALENDAR
VERSION:1.0
PRODID:SSPCA Web Calendar
TZ:-07
BEGIN:VEVENT
ORGANIZER:MAILTO: 
SUMMARY;ENCODING=QUOTED-PRINTABLE: CIMAE 2012 - The 3rd Beijing International Modern Agricultural Exhibition
LOCATION;ENCODING=QUOTED-PRINTABLE: Beijing
DESCRIPTION;ENCODING=QUOTED-PRINTABLE: More Details£º=0D=0A
DTSTART:20120628T000000Z 
DTEND:20120630T000000Z 
END:VEVENT
END:VCALENDAR