 BEGIN:VCALENDAR
VERSION:1.0
PRODID:SSPCA Web Calendar
TZ:-07
BEGIN:VEVENT
ORGANIZER:MAILTO: sy@apppexpo.com
SUMMARY;ENCODING=QUOTED-PRINTABLE: Shanghai Digital Signage Expo 2012
LOCATION;ENCODING=QUOTED-PRINTABLE: Shanghai
DESCRIPTION;ENCODING=QUOTED-PRINTABLE: More Details£º=0D=0Ahttp://www.chinaexhibition.com/trade_events/1682-Shanghai_Digital_Signage_Expo_2012.html
DTSTART:20120711T000000Z 
DTEND:20120714T000000Z 
END:VEVENT
END:VCALENDAR