 BEGIN:VCALENDAR
VERSION:1.0
PRODID:SSPCA Web Calendar
TZ:-07
BEGIN:VEVENT
ORGANIZER:MAILTO: pif@pujiangforum.org 
SUMMARY;ENCODING=QUOTED-PRINTABLE: Pujiang Innovation Forum 2012
LOCATION;ENCODING=QUOTED-PRINTABLE: Shanghai
DESCRIPTION;ENCODING=QUOTED-PRINTABLE: More Details£º=0D=0Ahttp://www.chinaexhibition.com/trade_events/1680-Pujiang_Innovation_Forum_2012.html
DTSTART:20121103T000000Z 
DTEND:20121104T000000Z 
END:VEVENT
END:VCALENDAR