 BEGIN:VCALENDAR
VERSION:1.0
PRODID:SSPCA Web Calendar
TZ:-07
BEGIN:VEVENT
ORGANIZER:MAILTO: ccswz2001@163.com
SUMMARY;ENCODING=QUOTED-PRINTABLE: BioChina 2012 - China (Suzhou) International Biotech Exhibition 2012
LOCATION;ENCODING=QUOTED-PRINTABLE: Suzhou
DESCRIPTION;ENCODING=QUOTED-PRINTABLE: More Details£º=0D=0A
DTSTART:20121102T000000Z 
DTEND:20121104T000000Z 
END:VEVENT
END:VCALENDAR