 BEGIN:VCALENDAR
VERSION:1.0
PRODID:SSPCA Web Calendar
TZ:-07
BEGIN:VEVENT
ORGANIZER:MAILTO: info@china-mining.org;
SUMMARY;ENCODING=QUOTED-PRINTABLE: China Mining 2012 - the 14th CHINA MINING Congress & Expo 2012
LOCATION;ENCODING=QUOTED-PRINTABLE: Tianjin
DESCRIPTION;ENCODING=QUOTED-PRINTABLE: More Details£º=0D=0A
DTSTART:20121103T000000Z 
DTEND:20121106T000000Z 
END:VEVENT
END:VCALENDAR