 BEGIN:VCALENDAR
VERSION:1.0
PRODID:SSPCA Web Calendar
TZ:-07
BEGIN:VEVENT
ORGANIZER:MAILTO: BoatShow@xmmarina.com 
SUMMARY;ENCODING=QUOTED-PRINTABLE: 2012 China (Xiamen) International Boat Show
LOCATION;ENCODING=QUOTED-PRINTABLE: Xiamen
DESCRIPTION;ENCODING=QUOTED-PRINTABLE: More Details£º=0D=0Ahttp://www.chinaexhibition.com/trade_events/1453-2012_China_(Xiamen)_International_Boat_Show.html
DTSTART:20121102T000000Z 
DTEND:20121105T000000Z 
END:VEVENT
END:VCALENDAR