 BEGIN:VCALENDAR
VERSION:1.0
PRODID:SSPCA Web Calendar
TZ:-07
BEGIN:VEVENT
ORGANIZER:MAILTO: ivylu@shanghaiexpogroup.com; amigo_xu@shanghaiexpogroup.com
SUMMARY;ENCODING=QUOTED-PRINTABLE: ICTS 2012 - Information and Communication Technology Show 2012
LOCATION;ENCODING=QUOTED-PRINTABLE: Shanghai
DESCRIPTION;ENCODING=QUOTED-PRINTABLE: More Details£º=0D=0A
DTSTART:20121106T000000Z 
DTEND:20121110T000000Z 
END:VEVENT
END:VCALENDAR