 BEGIN:VCALENDAR
VERSION:1.0
PRODID:SSPCA Web Calendar
TZ:-07
BEGIN:VEVENT
ORGANIZER:MAILTO: mwcs@hmf-china.com; Darren.kong@hmf-china.com; Alisa.sheng@hmf-china.com 
SUMMARY;ENCODING=QUOTED-PRINTABLE: MWCS 2012 - Metalworking and CNC Machine Tool Show 2012
LOCATION;ENCODING=QUOTED-PRINTABLE: Shanghai
DESCRIPTION;ENCODING=QUOTED-PRINTABLE: More Details£º=0D=0A
DTSTART:20121106T000000Z 
DTEND:20121110T000000Z 
END:VEVENT
END:VCALENDAR