 BEGIN:VCALENDAR
VERSION:1.0
PRODID:SSPCA Web Calendar
TZ:-07
BEGIN:VEVENT
ORGANIZER:MAILTO: taispo@taitra.org.tw
SUMMARY;ENCODING=QUOTED-PRINTABLE: TAISPO 2012 - Taipei Int'l Sporting Goods Show
LOCATION;ENCODING=QUOTED-PRINTABLE: Taipei
DESCRIPTION;ENCODING=QUOTED-PRINTABLE: More Details£º=0D=0A
DTSTART:20120306T000000Z 
DTEND:20120309T000000Z 
END:VEVENT
END:VCALENDAR