 BEGIN:VCALENDAR
VERSION:1.0
PRODID:SSPCA Web Calendar
TZ:-07
BEGIN:VEVENT
ORGANIZER:MAILTO: ptc-asia@hmf-china.com
SUMMARY;ENCODING=QUOTED-PRINTABLE: PTC ASIA 2012
LOCATION;ENCODING=QUOTED-PRINTABLE: Shanghai
DESCRIPTION;ENCODING=QUOTED-PRINTABLE: More Details£º=0D=0Ahttp://www.chinaexhibition.com/trade_events/1208-PTC_ASIA_2012.html
DTSTART:20121029T000000Z 
DTEND:20121101T000000Z 
END:VEVENT
END:VCALENDAR