 BEGIN:VCALENDAR
VERSION:1.0
PRODID:SSPCA Web Calendar
TZ:-07
BEGIN:VEVENT
ORGANIZER:MAILTO: china_pec@yahoo.com.cn
SUMMARY;ENCODING=QUOTED-PRINTABLE: China Pec 2012 - The 12th China Plastics Exhibition & Conference
LOCATION;ENCODING=QUOTED-PRINTABLE: Taizhou
DESCRIPTION;ENCODING=QUOTED-PRINTABLE: More Details£º=0D=0A
DTSTART:20120922T000000Z 
DTEND:20120925T000000Z 
END:VEVENT
END:VCALENDAR