 BEGIN:VCALENDAR
VERSION:1.0
PRODID:SSPCA Web Calendar
TZ:-07
BEGIN:VEVENT
ORGANIZER:MAILTO: ask_bj@reedexpo.com.cn
SUMMARY;ENCODING=QUOTED-PRINTABLE: NEPCON West China 2012
LOCATION;ENCODING=QUOTED-PRINTABLE: Chengdu
DESCRIPTION;ENCODING=QUOTED-PRINTABLE: More Details£º=0D=0Ahttp://www.chinaexhibition.com/trade_events/1107-NEPCON_West_China_2012.html
DTSTART:20120619T000000Z 
DTEND:20120621T000000Z 
END:VEVENT
END:VCALENDAR