 BEGIN:VCALENDAR
VERSION:1.0
PRODID:SSPCA Web Calendar
TZ:-07
BEGIN:VEVENT
ORGANIZER:MAILTO: shangyuanec@chipf.com.cn
SUMMARY;ENCODING=QUOTED-PRINTABLE: CHIPF2012 - Beijing International Packaging Fair 2012
LOCATION;ENCODING=QUOTED-PRINTABLE: Beijing
DESCRIPTION;ENCODING=QUOTED-PRINTABLE: More Details£º=0D=0A
DTSTART:20120703T000000Z 
DTEND:20120706T000000Z 
END:VEVENT
END:VCALENDAR